BEGIN:VCALENDAR
VERSION:2.0
PRODID:-//Glessener Mühlenhof - ECPv6.15.20//NONSGML v1.0//EN
CALSCALE:GREGORIAN
METHOD:PUBLISH
X-ORIGINAL-URL:https://glessener-muehlenhof.de
X-WR-CALDESC:Veranstaltungen für Glessener Mühlenhof
REFRESH-INTERVAL;VALUE=DURATION:PT1H
X-Robots-Tag:noindex
X-PUBLISHED-TTL:PT1H
BEGIN:VTIMEZONE
TZID:UTC
BEGIN:STANDARD
TZOFFSETFROM:+0000
TZOFFSETTO:+0000
TZNAME:UTC
DTSTART:20250101T000000
END:STANDARD
END:VTIMEZONE
BEGIN:VEVENT
DTSTART;VALUE=DATE:20260130
DTEND;VALUE=DATE:20260301
DTSTAMP:20260422T133740
CREATED:20260110T155939Z
LAST-MODIFIED:20260110T160000Z
UID:8876-1769731200-1772323199@glessener-muehlenhof.de
SUMMARY:Öffnungszeiten
DESCRIPTION:
URL:https://glessener-muehlenhof.de/event/oeffnungszeiten/
CATEGORIES:Glessener Mühlenhof
END:VEVENT
BEGIN:VEVENT
DTSTART;VALUE=DATE:20260131
DTEND;VALUE=DATE:20260202
DTSTAMP:20260422T133740
CREATED:20251230T124033Z
LAST-MODIFIED:20251230T124033Z
UID:8832-1769817600-1769990399@glessener-muehlenhof.de
SUMMARY:Neujahrsfrühstück
DESCRIPTION:
URL:https://glessener-muehlenhof.de/event/neujahrsfruehstueck/
CATEGORIES:Hofcafé
END:VEVENT
BEGIN:VEVENT
DTSTART;VALUE=DATE:20260207
DTEND;VALUE=DATE:20260209
DTSTAMP:20260422T133740
CREATED:20251230T124920Z
LAST-MODIFIED:20251230T125535Z
UID:8835-1770422400-1770595199@glessener-muehlenhof.de
SUMMARY:Karnevalsfrühstück
DESCRIPTION:
URL:https://glessener-muehlenhof.de/event/karnevalsfruehstueck/
END:VEVENT
BEGIN:VEVENT
DTSTART;VALUE=DATE:20260212
DTEND;VALUE=DATE:20260218
DTSTAMP:20260422T133740
CREATED:20260108T191912Z
LAST-MODIFIED:20260110T160829Z
UID:8858-1770854400-1771372799@glessener-muehlenhof.de
SUMMARY:Karnevalspause
DESCRIPTION:Der Mühlenhof ist geschlossen
URL:https://glessener-muehlenhof.de/event/karnevalspause-2/
CATEGORIES:Glessener Mühlenhof
END:VEVENT
BEGIN:VEVENT
DTSTART;VALUE=DATE:20260222
DTEND;VALUE=DATE:20260223
DTSTAMP:20260422T133740
CREATED:20260108T192137Z
LAST-MODIFIED:20260109T162328Z
UID:8860-1771718400-1771804799@glessener-muehlenhof.de
SUMMARY:Museumstag - Leben wie vor 100 Jahren
DESCRIPTION:
URL:https://glessener-muehlenhof.de/event/museumstag-leben-wie-vor-100-jahren-2/
LOCATION:Bauernhoferlebnis
CATEGORIES:Bauernhoferlebnis
END:VEVENT
END:VCALENDAR