BEGIN:VCALENDAR
VERSION:2.0
PRODID:-//Glessener Mühlenhof - ECPv6.15.20//NONSGML v1.0//EN
CALSCALE:GREGORIAN
METHOD:PUBLISH
X-WR-CALNAME:Glessener Mühlenhof
X-ORIGINAL-URL:https://glessener-muehlenhof.de
X-WR-CALDESC:Veranstaltungen für Glessener Mühlenhof
REFRESH-INTERVAL;VALUE=DURATION:PT1H
X-Robots-Tag:noindex
X-PUBLISHED-TTL:PT1H
BEGIN:VTIMEZONE
TZID:UTC
BEGIN:STANDARD
TZOFFSETFROM:+0000
TZOFFSETTO:+0000
TZNAME:UTC
DTSTART:20250101T000000
END:STANDARD
END:VTIMEZONE
BEGIN:VEVENT
DTSTART;VALUE=DATE:20260906
DTEND;VALUE=DATE:20260907
DTSTAMP:20260422T220631
CREATED:20260420T063929Z
LAST-MODIFIED:20260420T063929Z
UID:9088-1788652800-1788739199@glessener-muehlenhof.de
SUMMARY:Kartoffeltag
DESCRIPTION:
URL:https://glessener-muehlenhof.de/event/kartoffeltag/
LOCATION:Bauernhoferlebnis
CATEGORIES:Bauernhoferlebnis,Glessener Mühlenhof
ATTACH;FMTTYPE=image/jpeg:https://glessener-muehlenhof.de/wp-content/uploads/2026/04/Kartoffeltag_2026-scaled.jpg
END:VEVENT
END:VCALENDAR