BEGIN:VCALENDAR
VERSION:2.0
PRODID:-//Glessener Mühlenhof - ECPv6.15.20//NONSGML v1.0//EN
CALSCALE:GREGORIAN
METHOD:PUBLISH
X-ORIGINAL-URL:https://glessener-muehlenhof.de
X-WR-CALDESC:Veranstaltungen für Glessener Mühlenhof
REFRESH-INTERVAL;VALUE=DURATION:PT1H
X-Robots-Tag:noindex
X-PUBLISHED-TTL:PT1H
BEGIN:VTIMEZONE
TZID:UTC
BEGIN:STANDARD
TZOFFSETFROM:+0000
TZOFFSETTO:+0000
TZNAME:UTC
DTSTART:20250101T000000
END:STANDARD
END:VTIMEZONE
BEGIN:VEVENT
DTSTART;TZID=UTC:20260712T110000
DTEND;TZID=UTC:20260712T170000
DTSTAMP:20260422T173440
CREATED:20260220T105900Z
LAST-MODIFIED:20260419T063153Z
UID:8935-1783854000-1783875600@glessener-muehlenhof.de
SUMMARY:Pizzatag
DESCRIPTION:
URL:https://glessener-muehlenhof.de/event/pizzatag-2/
ATTACH;FMTTYPE=image/jpeg:https://glessener-muehlenhof.de/wp-content/uploads/2026/02/Pizzatag2026-scaled.jpg
END:VEVENT
END:VCALENDAR