BEGIN:VCALENDAR
VERSION:2.0
PRODID:-//Glessener Mühlenhof - ECPv6.15.20//NONSGML v1.0//EN
CALSCALE:GREGORIAN
METHOD:PUBLISH
X-ORIGINAL-URL:https://glessener-muehlenhof.de
X-WR-CALDESC:Veranstaltungen für Glessener Mühlenhof
REFRESH-INTERVAL;VALUE=DURATION:PT1H
X-Robots-Tag:noindex
X-PUBLISHED-TTL:PT1H
BEGIN:VTIMEZONE
TZID:UTC
BEGIN:STANDARD
TZOFFSETFROM:+0000
TZOFFSETTO:+0000
TZNAME:UTC
DTSTART:20250101T000000
END:STANDARD
END:VTIMEZONE
BEGIN:VEVENT
DTSTART;VALUE=DATE:20260517
DTEND;VALUE=DATE:20260518
DTSTAMP:20260424T091546
CREATED:20260109T191512Z
LAST-MODIFIED:20260419T061508Z
UID:8870-1778976000-1779062399@glessener-muehlenhof.de
SUMMARY:Bauernhof- & Tierführungen
DESCRIPTION:
URL:https://glessener-muehlenhof.de/event/bauernhof-tierfuehrungen-3/
LOCATION:Bauernhoferlebnis
CATEGORIES:Bauernhoferlebnis
ATTACH;FMTTYPE=image/jpeg:https://glessener-muehlenhof.de/wp-content/uploads/2026/01/HofundTierfuehrung_05_2026-scaled.jpg
END:VEVENT
END:VCALENDAR