BEGIN:VCALENDAR
VERSION:2.0
PRODID:-//Glessener Mühlenhof - ECPv6.15.20//NONSGML v1.0//EN
CALSCALE:GREGORIAN
METHOD:PUBLISH
X-WR-CALNAME:Glessener Mühlenhof
X-ORIGINAL-URL:https://glessener-muehlenhof.de
X-WR-CALDESC:Veranstaltungen für Glessener Mühlenhof
REFRESH-INTERVAL;VALUE=DURATION:PT1H
X-Robots-Tag:noindex
X-PUBLISHED-TTL:PT1H
BEGIN:VTIMEZONE
TZID:UTC
BEGIN:STANDARD
TZOFFSETFROM:+0000
TZOFFSETTO:+0000
TZNAME:UTC
DTSTART:20250101T000000
END:STANDARD
END:VTIMEZONE
BEGIN:VEVENT
DTSTART;VALUE=DATE:20260501
DTEND;VALUE=DATE:20260504
DTSTAMP:20260422T122555
CREATED:20260318T105402Z
LAST-MODIFIED:20260419T064752Z
UID:9014-1777593600-1777852799@glessener-muehlenhof.de
SUMMARY:Mai-Frühstück
DESCRIPTION:
URL:https://glessener-muehlenhof.de/event/mai-fruehstueck/
CATEGORIES:Hofcafé
ATTACH;FMTTYPE=image/jpeg:https://glessener-muehlenhof.de/wp-content/uploads/2026/03/05-Mai_Fruehstueck2026-scaled.jpg
END:VEVENT
END:VCALENDAR