BEGIN:VCALENDAR
VERSION:2.0
PRODID:-//Glessener Mühlenhof - ECPv6.15.20//NONSGML v1.0//EN
CALSCALE:GREGORIAN
METHOD:PUBLISH
X-ORIGINAL-URL:https://glessener-muehlenhof.de
X-WR-CALDESC:Veranstaltungen für Glessener Mühlenhof
REFRESH-INTERVAL;VALUE=DURATION:PT1H
X-Robots-Tag:noindex
X-PUBLISHED-TTL:PT1H
BEGIN:VTIMEZONE
TZID:UTC
BEGIN:STANDARD
TZOFFSETFROM:+0000
TZOFFSETTO:+0000
TZNAME:UTC
DTSTART:20250101T000000
END:STANDARD
END:VTIMEZONE
BEGIN:VEVENT
DTSTART;VALUE=DATE:20260403
DTEND;VALUE=DATE:20260407
DTSTAMP:20260422T122116
CREATED:20260302T194137Z
LAST-MODIFIED:20260302T194137Z
UID:8957-1775174400-1775519999@glessener-muehlenhof.de
SUMMARY:Osterfrühstücksbuffet
DESCRIPTION:
URL:https://glessener-muehlenhof.de/event/osterfruehstuecksbuffet/
LOCATION:Hofcafé
CATEGORIES:Hofcafé
ATTACH;FMTTYPE=image/jpeg:https://glessener-muehlenhof.de/wp-content/uploads/2026/02/04-Oster_Fruehstueck_2026-scaled.jpeg
END:VEVENT
BEGIN:VEVENT
DTSTART;VALUE=DATE:20260403
DTEND;VALUE=DATE:20260407
DTSTAMP:20260422T122116
CREATED:20260326T090800Z
LAST-MODIFIED:20260326T090800Z
UID:9040-1775174400-1775519999@glessener-muehlenhof.de
SUMMARY:Mittagsbuffet an Ostern
DESCRIPTION:
URL:https://glessener-muehlenhof.de/event/mittagsbuffet-an-ostern/
CATEGORIES:Hofcafé
END:VEVENT
BEGIN:VEVENT
DTSTART;VALUE=DATE:20260405
DTEND;VALUE=DATE:20260407
DTSTAMP:20260422T122116
CREATED:20260323T115254Z
LAST-MODIFIED:20260323T115254Z
UID:9027-1775347200-1775519999@glessener-muehlenhof.de
SUMMARY:Ostereiersuchen
DESCRIPTION:
URL:https://glessener-muehlenhof.de/event/ostereiersuchen-2/
LOCATION:Bauernhoferlebnis
CATEGORIES:Bauernhoferlebnis
ATTACH;FMTTYPE=image/jpeg:https://glessener-muehlenhof.de/wp-content/uploads/2026/03/Ostereiersuche_2025.jpg
END:VEVENT
BEGIN:VEVENT
DTSTART;TZID=UTC:20260405T100000
DTEND;TZID=UTC:20260405T150000
DTSTAMP:20260422T122116
CREATED:20251230T140623Z
LAST-MODIFIED:20251230T140623Z
UID:8844-1775383200-1775401200@glessener-muehlenhof.de
SUMMARY:Osterbrunch
DESCRIPTION:
URL:https://glessener-muehlenhof.de/event/osterbrunch/
ATTACH;FMTTYPE=image/jpeg:https://glessener-muehlenhof.de/wp-content/uploads/2025/12/2026_04_Osterbrunch_2026.jpg
END:VEVENT
END:VCALENDAR