BEGIN:VCALENDAR
VERSION:2.0
PRODID:-//Glessener Mühlenhof - ECPv6.15.20//NONSGML v1.0//EN
CALSCALE:GREGORIAN
METHOD:PUBLISH
X-ORIGINAL-URL:https://glessener-muehlenhof.de
X-WR-CALDESC:Veranstaltungen für Glessener Mühlenhof
REFRESH-INTERVAL;VALUE=DURATION:PT1H
X-Robots-Tag:noindex
X-PUBLISHED-TTL:PT1H
BEGIN:VTIMEZONE
TZID:UTC
BEGIN:STANDARD
TZOFFSETFROM:+0000
TZOFFSETTO:+0000
TZNAME:UTC
DTSTART:20250101T000000
END:STANDARD
END:VTIMEZONE
BEGIN:VEVENT
DTSTART;VALUE=DATE:20260328
DTEND;VALUE=DATE:20260330
DTSTAMP:20260422T133628
CREATED:20260326T090727Z
LAST-MODIFIED:20260326T090727Z
UID:9038-1774656000-1774828799@glessener-muehlenhof.de
SUMMARY:Mittagsbuffet 28./29. März
DESCRIPTION:
URL:https://glessener-muehlenhof.de/event/mittagsbuffet-28-29-maerz/
CATEGORIES:Hofcafé
END:VEVENT
END:VCALENDAR