BEGIN:VCALENDAR
VERSION:2.0
PRODID:-//Glessener Mühlenhof - ECPv6.15.20//NONSGML v1.0//EN
CALSCALE:GREGORIAN
METHOD:PUBLISH
X-ORIGINAL-URL:https://glessener-muehlenhof.de
X-WR-CALDESC:Veranstaltungen für Glessener Mühlenhof
REFRESH-INTERVAL;VALUE=DURATION:PT1H
X-Robots-Tag:noindex
X-PUBLISHED-TTL:PT1H
BEGIN:VTIMEZONE
TZID:UTC
BEGIN:STANDARD
TZOFFSETFROM:+0000
TZOFFSETTO:+0000
TZNAME:UTC
DTSTART:20250101T000000
END:STANDARD
END:VTIMEZONE
BEGIN:VEVENT
DTSTART;VALUE=DATE:20260308
DTEND;VALUE=DATE:20260309
DTSTAMP:20260422T133547
CREATED:20260112T133314Z
LAST-MODIFIED:20260112T133314Z
UID:8881-1772928000-1773014399@glessener-muehlenhof.de
SUMMARY:Bauernhof- & Tierführungen
DESCRIPTION:
URL:https://glessener-muehlenhof.de/event/bauernhof-tierfuehrungen-4/
LOCATION:Bauernhoferlebnis
CATEGORIES:Bauernhoferlebnis
END:VEVENT
END:VCALENDAR