BEGIN:VCALENDAR
VERSION:2.0
PRODID:-//Glessener Mühlenhof - ECPv6.15.20//NONSGML v1.0//EN
CALSCALE:GREGORIAN
METHOD:PUBLISH
X-ORIGINAL-URL:https://glessener-muehlenhof.de
X-WR-CALDESC:Veranstaltungen für Glessener Mühlenhof
REFRESH-INTERVAL;VALUE=DURATION:PT1H
X-Robots-Tag:noindex
X-PUBLISHED-TTL:PT1H
BEGIN:VTIMEZONE
TZID:UTC
BEGIN:STANDARD
TZOFFSETFROM:+0000
TZOFFSETTO:+0000
TZNAME:UTC
DTSTART:20250101T000000
END:STANDARD
END:VTIMEZONE
BEGIN:VEVENT
DTSTART;VALUE=DATE:20260130
DTEND;VALUE=DATE:20260301
DTSTAMP:20260422T144654
CREATED:20260110T155939Z
LAST-MODIFIED:20260110T160000Z
UID:8876-1769731200-1772323199@glessener-muehlenhof.de
SUMMARY:Öffnungszeiten
DESCRIPTION:
URL:https://glessener-muehlenhof.de/event/oeffnungszeiten/
CATEGORIES:Glessener Mühlenhof
END:VEVENT
END:VCALENDAR